
BEGIN:VCALENDAR
VERSION:2.0
PRODID:-//Kawartha ATV Association (KATVA) - ECPv6.5.1.4//NONSGML v1.0//EN
CALSCALE:GREGORIAN
METHOD:PUBLISH
X-WR-CALNAME:Kawartha ATV Association (KATVA)
X-ORIGINAL-URL:https://katva.ca
X-WR-CALDESC:Events for Kawartha ATV Association (KATVA)
REFRESH-INTERVAL;VALUE=DURATION:PT1H
X-Robots-Tag:noindex
X-PUBLISHED-TTL:PT1H
BEGIN:VTIMEZONE
TZID:UTC
BEGIN:STANDARD
TZOFFSETFROM:+0000
TZOFFSETTO:+0000
TZNAME:UTC
DTSTART:20260101T000000
END:STANDARD
END:VTIMEZONE
BEGIN:VEVENT
DTSTART;VALUE=DATE:20260502
DTEND;VALUE=DATE:20260503
DTSTAMP:20260419T145655
CREATED:20250206T202709Z
LAST-MODIFIED:20260331T010239Z
UID:13309-1777680000-1777766399@katva.ca
SUMMARY:KATVA Season Kick Off Ride
DESCRIPTION:Who’s excited for the Riding Season? Join us for our annual kick off ride with BBQ lunch! \nAll ride levels welcome. We’ll meet at Superior Propane staging area and split into groups based on your preferred ride level. Then all groups will meet at Kinmount’s Austin Sawmill for a BBQ lunch\, included in the ride fee of $15 per person. \nAll riders must have a valid trail permit. All rides are expected to return to the staging area by 3:00pm baring any unforeseen circumstances. \nEASY will be for new riders or those just seeking an easy-going pace. This ride will cover the Victoria Rail Trail and parts of the Pinery and Somerville Forest. \nINTERMEDIATE will be for riders seeking moderate challenges in the Somerville Forest and parts of the 5-Points trails. There may be some mud but should also have go-arounds. \nEXPERT is for riders looking for our tougher trails throughout the 5-Points where we’ll encounter some mud\, tight cornering and rugged terrain at a quicker pace. \nSXS must not exceed 64 inch width. \nNo refunds for this event. \nClick here to register.\nRegistration closes April 27\, 2025.
URL:https://katva.ca/event/katva-riding-season-kick-off/
LOCATION:KATVA Trails\, Kawartha Lakes\, Ontario
ORGANIZER;CN="KATVA":MAILTO:info@katva.ca
END:VEVENT
END:VCALENDAR