
BEGIN:VCALENDAR
VERSION:2.0
PRODID:-//Kawartha ATV Association (KATVA) - ECPv6.5.1.4//NONSGML v1.0//EN
CALSCALE:GREGORIAN
METHOD:PUBLISH
X-WR-CALNAME:Kawartha ATV Association (KATVA)
X-ORIGINAL-URL:https://katva.ca
X-WR-CALDESC:Events for Kawartha ATV Association (KATVA)
REFRESH-INTERVAL;VALUE=DURATION:PT1H
X-Robots-Tag:noindex
X-PUBLISHED-TTL:PT1H
BEGIN:VTIMEZONE
TZID:UTC
BEGIN:STANDARD
TZOFFSETFROM:+0000
TZOFFSETTO:+0000
TZNAME:UTC
DTSTART:20260101T000000
END:STANDARD
END:VTIMEZONE
BEGIN:VEVENT
DTSTART;TZID=UTC:20260516T150000
DTEND;TZID=UTC:20260516T210000
DTSTAMP:20260419T162723
CREATED:20260117T174143Z
LAST-MODIFIED:20260407T001833Z
UID:14741-1778943600-1778965200@katva.ca
SUMMARY:KATVA Sundown Ride
DESCRIPTION:Gear up for an exciting evening adventure as we ride from day into night! This intermediate ride will take us through the picturesque forest trails of the Pinery and Sommerville Forests. A small fee helps to cover a light trailside dinner. Our sponsors\, The Co-operators\, help to cover additional costs. \nCome ride\, eat\, and enjoy an unforgettable sunset ride on KATVA’s trails! \nThis is an intermediate ride. \nSXS must not exceed 64″. \nClick here to register.\nRegistration closes May 11\, 2026.
URL:https://katva.ca/event/14741/
LOCATION:KATVA Trails\, Kawartha Lakes\, Ontario
ORGANIZER;CN="KATVA":MAILTO:info@katva.ca
END:VEVENT
END:VCALENDAR