
BEGIN:VCALENDAR
VERSION:2.0
PRODID:-//Kawartha ATV Association (KATVA) - ECPv6.5.1.4//NONSGML v1.0//EN
CALSCALE:GREGORIAN
METHOD:PUBLISH
X-WR-CALNAME:Kawartha ATV Association (KATVA)
X-ORIGINAL-URL:https://katva.ca
X-WR-CALDESC:Events for Kawartha ATV Association (KATVA)
REFRESH-INTERVAL;VALUE=DURATION:PT1H
X-Robots-Tag:noindex
X-PUBLISHED-TTL:PT1H
BEGIN:VTIMEZONE
TZID:UTC
BEGIN:STANDARD
TZOFFSETFROM:+0000
TZOFFSETTO:+0000
TZNAME:UTC
DTSTART:20260101T000000
END:STANDARD
END:VTIMEZONE
BEGIN:VEVENT
DTSTART;VALUE=DATE:20260530
DTEND;VALUE=DATE:20260531
DTSTAMP:20260419T162724
CREATED:20250206T203234Z
LAST-MODIFIED:20260407T013158Z
UID:13312-1780099200-1780185599@katva.ca
SUMMARY:KATVA Mud Run!
DESCRIPTION:You’re a special kind of crazy. You seek out the water and mud on a ride that’s just as prone to swallow you up as you are to make it out. \nThis is an expert level ride. We will go out of our way to find the mud and take on challenging trails. Please have a working winch and a ride buddy. \nBring a lunch and be ready to work up an appetite. \nAre you ready to taste the mud? Photos will be taken! No crying allowed. \nSXS must not exceed 64″ \nClick here to register.
URL:https://katva.ca/event/katva-mud-run/
LOCATION:KATVA Trails\, Kawartha Lakes\, Ontario
ORGANIZER;CN="KATVA":MAILTO:info@katva.ca
END:VEVENT
BEGIN:VEVENT
DTSTART;TZID=UTC:20260530T083000
DTEND;TZID=UTC:20260530T150000
DTSTAMP:20260419T162724
CREATED:20230328T170028Z
LAST-MODIFIED:20260323T132853Z
UID:9239-1780129800-1780153200@katva.ca
SUMMARY:CASI ATV Training Course
DESCRIPTION:This program is the backbone of our safety training focus. The CASI program is an initiative of the Canadian AQCC Safety Institute\, a division of the Canadian Quad Council (AQCC/CQC). It is affiliated with ASI (US) and is endorsed by government\, manufacturers and clubs across Canada and the US. \nTraining is designed for youth and adults learning to ride and offers good basic instruction. Many seasoned riders would benefit from safety training to overcome bad habits\, reinforce what they already know\, and improve their overall skill set. The course offers participants an opportunity to increase their safety knowledge and to practice basic riding skills in a controlled environment\, under the direct supervision of a Certified Instructor. KATVA is also leading corporate training sessions for groups who use ATVing as part of their job. Past trainees include MNR Wardens and CKL By-law Officers. It’s good for riders and the ATV industry to support the training. At some point\, rider training and licensing may even become mandatory in Ontario \nThis course is suitable for Youth ages 12 to 18\, and adults new to the sport. If you would like more information\, please email us at info@katva.ca. \nLimited spots available. Additional courses may be announced.  \nCLICK HERE TO REGISTER
URL:https://katva.ca/event/katva-casi-training-event/
LOCATION:Log Chateau Family Park/Burnt River Community Centre\, 1691 Kawartha Lakes County Rd 121\, Fenelon Falls\, Ontario\, K0M 1N0\, Canada
ORGANIZER;CN="KATVA":MAILTO:info@katva.ca
END:VEVENT
END:VCALENDAR