
BEGIN:VCALENDAR
VERSION:2.0
PRODID:-//Kawartha ATV Association (KATVA) - ECPv6.5.1.4//NONSGML v1.0//EN
CALSCALE:GREGORIAN
METHOD:PUBLISH
X-WR-CALNAME:Kawartha ATV Association (KATVA)
X-ORIGINAL-URL:https://katva.ca
X-WR-CALDESC:Events for Kawartha ATV Association (KATVA)
REFRESH-INTERVAL;VALUE=DURATION:PT1H
X-Robots-Tag:noindex
X-PUBLISHED-TTL:PT1H
BEGIN:VTIMEZONE
TZID:UTC
BEGIN:STANDARD
TZOFFSETFROM:+0000
TZOFFSETTO:+0000
TZNAME:UTC
DTSTART:20260101T000000
END:STANDARD
END:VTIMEZONE
BEGIN:VEVENT
DTSTART;VALUE=DATE:20260627
DTEND;VALUE=DATE:20260628
DTSTAMP:20260419T230243
CREATED:20260207T013022Z
LAST-MODIFIED:20260207T013118Z
UID:14811-1782518400-1782604799@katva.ca
SUMMARY:Hogsback Ride
DESCRIPTION:Join us for a fun ride on the south trails of Kawartha Lakes as we make our way down the VRT to the Hogsback known for its rolling forested hills and meadow vistas. This is a day of scenic trails at a relaxed pace\, some technical riding on the ridge and great views. Find out what makes this a hidden gem of the south trails. \nWe’ll meet at Golden Mile Rd just south of Lindsay. No children under 8 years old. Bring snacks and a lunch. This is a rain or shine event. \nThis is an intermediate level ride. \nSorry\, no SXS allowed. \nRegistration is not yet open.
URL:https://katva.ca/event/14811/
LOCATION:KATVA Trails\, Kawartha Lakes\, Ontario
ORGANIZER;CN="KATVA":MAILTO:info@katva.ca
END:VEVENT
BEGIN:VEVENT
DTSTART;TZID=UTC:20260627T093000
DTEND;TZID=UTC:20260627T140000
DTSTAMP:20260419T230243
CREATED:20250206T204840Z
LAST-MODIFIED:20260118T135552Z
UID:13318-1782552600-1782568800@katva.ca
SUMMARY:Youth Ride - Easy Does It!
DESCRIPTION:An easy-does-it ride for the young ATV and SXS riders aged 12 to 18. Parents and guardians are more than welcome to join.  \nAbsolutely no rush on this ride – safety is priority. This ride is expected to be approximately 3 hours long. We’ll start at P2 Staging area off Pinery Rd so there are no road crossings on this ride. \nWe’ll cover basic paper map reading\, using Polaris Ride Command and What3Words.  \nSXS must not exceed 64 inch width. \n\n\nMeet between 9:00am and 9:30am\, ready to ride by 10:00am\nBring lunch/snacks for ride\n\nRegistration is not yet open.
URL:https://katva.ca/event/youth-ride-easy-does-it/
LOCATION:KATVA Trails\, Kawartha Lakes\, Ontario
ORGANIZER;CN="KATVA":MAILTO:info@katva.ca
END:VEVENT
BEGIN:VEVENT
DTSTART;VALUE=DATE:20260704
DTEND;VALUE=DATE:20260705
DTSTAMP:20260419T230243
CREATED:20220224T024122Z
LAST-MODIFIED:20260331T231014Z
UID:6934-1783123200-1783209599@katva.ca
SUMMARY:Sasquatch Skuttle - SXS Ride in the 5Points
DESCRIPTION:It’s been said that a Sasquatch rides a SXS in the 5-Points! \nThis ride will scuttle along at a quick pace over Sasquatch Territory in the 5-Points. The terrain consists of steep inclines and declines\, rocky outcrops\, tight twists and turns\, and gnarly roots. There may be some mud and water with go-arounds.  \nThis year\, you will need to pack a lunch. \nThis ride is meant for trail purpose SXS; utility machines will not be able to keep up to the trail conditions or the pace of the ride. Have a full tank of gas – there are no gas stations – a clean rad\, proper tires and a trailside repair kit in case of breakdowns. It is expected we will return to the staging area around 3pm\, but many variables can change this. \nSXS must not exceed 64 inch width. \nRegistration is not yet open.
URL:https://katva.ca/event/katva-5-points-ride-sxs-only/
LOCATION:KATVA Trails\, Kawartha Lakes\, Ontario
ORGANIZER;CN="KATVA":MAILTO:info@katva.ca
END:VEVENT
BEGIN:VEVENT
DTSTART;TZID=UTC:20260711T080000
DTEND;TZID=UTC:20260711T170000
DTSTAMP:20260419T230243
CREATED:20260117T195522Z
LAST-MODIFIED:20260118T135454Z
UID:14758-1783756800-1783789200@katva.ca
SUMMARY:KATVA's Girls Just Wanna Have Fun!
DESCRIPTION:No boys allowed! This ride is just for girls! Grab your bestie and hit the trails with us. We’ll split into 2 ride groups so you can choose the pace and challenge level that suits you best. KATVA trail rides offers open spaces\, tree filled hills and valleys and breath-taking scenery.  \nWe’ll meet at Superior Propane Parking (P1 on the KATVA Trails map) and be ready to ride for 9:00am. No children under 8 years old. Bring snacks and a lunch. This is a rain or shine event. \nThis ride offers 2 ride levels: beginner/easy or intermediate. \nSXS must not exceed 64 inch width. \nRegistration in not yet open.
URL:https://katva.ca/event/katvas-girls-just-wanna-have-fun/
LOCATION:KATVA Trails\, Kawartha Lakes\, Ontario
ORGANIZER;CN="KATVA":MAILTO:info@katva.ca
END:VEVENT
BEGIN:VEVENT
DTSTART;TZID=UTC:20260711T120000
DTEND;TZID=UTC:20260719T170000
DTSTAMP:20260419T230243
CREATED:20250207T144243Z
LAST-MODIFIED:20260118T000304Z
UID:13326-1783771200-1784480400@katva.ca
SUMMARY:Bear Ridge Campground & Cottages - Camping Week
DESCRIPTION:Join us for a few days or the whole week. Rides decided by group consensus for each day. Great swimming and nightly bon fires\, weather permitting. A nice time to socialize. Tent and trailer camping as well as cabin and trailer rentals available. \nBear Ridge is an excellent park to visit anytime! Located in Coe Hill\, the trails are close to the park and you can ride directly to the trails from your campsite. A permit or temporary pass for OFATV is required – your KATVA is not valid. \nNo need to register with KATVA for this. Book directly with the park at Bear Ridge Campground & Cottages or 613-337-5533.
URL:https://katva.ca/event/https-bearridgecamp-ca-book-nowgad_source1gad_campaignid23419489825gbraid0aaaaa91fqe1mdws1-vzudywygomp3w9c1gclidcj0kcqiag63lbhdtarisajyghz53oknwysghafud90khpmcvyaenu-rzd83y-i2noyyjularfu3edf/
LOCATION:Bear Ridge Campground & Cottages\, 563 The Ridge Road\, Coe Hill\, Ontario\, K0L 1P0\, Canada
ORGANIZER;CN="KATVA":MAILTO:info@katva.ca
END:VEVENT
BEGIN:VEVENT
DTSTART;VALUE=DATE:20260718
DTEND;VALUE=DATE:20260719
DTSTAMP:20260419T230243
CREATED:20250218T143233Z
LAST-MODIFIED:20260326T004144Z
UID:13355-1784332800-1784419199@katva.ca
SUMMARY:KORMA Ladies Thrill and Chill 2026
DESCRIPTION:The KORMA Ladies Thrill & Chill Ride is becoming a summer favourite! Join us through breathtaking scenery and world-class trails of the Somerville Forest in Kinmount\, Ontario. Whether you are a novice\, intermediate\, or advanced rider\, the KORMA Ladies Thrill & Chill Ride will leave you with hours of exhilaration and notable accomplishments.\n \nThis women’s only event is a social\, fun\, and casual event with challenges for all skill levels in a positive and supportive setting. The event includes lunch and a free gift\, along with lasting friendships. This is an event you do not want to miss! \nFor novice riders\, the Somerville Forest is home to flowing\, smooth\, and surreal single-track riding. For our more advanced riders\, the southern forest and fringes of the northern forest offer challenging areas of exposed rock\, stream crossings\, and elevation changes. \nYou must be a member of the OFTR or purchase a KORMA day pass for this event. \nClick here to register.
URL:https://katva.ca/event/korma-ladies-thrill-and-chill-ride/
ORGANIZER;CN="KORMA":MAILTO:info@katva.ca
END:VEVENT
BEGIN:VEVENT
DTSTART;TZID=UTC:20260718T200000
DTEND;TZID=UTC:20260719T020000
DTSTAMP:20260419T230243
CREATED:20250206T213312Z
LAST-MODIFIED:20260118T135425Z
UID:13323-1784404800-1784426400@katva.ca
SUMMARY:KATVA Aurora Borealis - Summer Night Ride 2026
DESCRIPTION:Come ride the 5-Points after dark with us! \nRiding in the dark is a whole new experience and brings an extra bit of thrill and challenge. We’ll ride through the expert trails of the 5-Points at a quick pace\, covering rock and steep inclines and declines\, sharp turns and possibly some mud or water with go-arounds. \nBring an extra layer of clothing to keep warm because even in summer it gets chilly in the woods after sunset. Bring a midnight lunch and snacks. Have a full tank of gas\, clean rad and trailside repair kit. It is expected we will return to the staging area around 2am\, but many variables can change this. \nNight Rides come with extra rules: \n\n\nNo beginner riders\nNo speakers with loud music – listen to music with ear buds\nBe mindful of excessively bright light bars\n\n\nDue to past night rides\, we must stress there is a zero tolerance to drug and alcohol use\, or disrespectful\, or unsafe behaviour. With that in mind\, Night Rides are a Member and Volunteer favourite ride that we hope to continue for many years to come. \nRegistration not yet open.\nThis ride is capped at 25 riders. \nThere are no size restrictions for SXS or ATVs on this ride.
URL:https://katva.ca/event/katva-aurora-borealis-summer-night-ride-2025/
LOCATION:KATVA Trails\, Kawartha Lakes\, Ontario
ORGANIZER;CN="KATVA":MAILTO:info@katva.ca
END:VEVENT
BEGIN:VEVENT
DTSTART;VALUE=DATE:20260725
DTEND;VALUE=DATE:20260726
DTSTAMP:20260419T230243
CREATED:20250207T151638Z
LAST-MODIFIED:20260118T135214Z
UID:13328-1784937600-1785023999@katva.ca
SUMMARY:KATVA Tailgate Ride
DESCRIPTION:Join us for a club-led ride through KATVA’s intermediate trails in the Pinery\, Somerville and 5-Points Forests network. These trails are some of the most scenic trails in Ontario with twists and turns through a mix of dense forest tracts\, water vistas and beautifully rugged terrain. \nMidway\, we’ll take a break for a tailgate-style lunch and ice cold drinks\, served trailside. This is sure to be a fun ride with good food\, great friends and amazing trails! \nSXS must not exceed 64 inch width. \nNo refunds for this event. \nRegistration is not yet open.
URL:https://katva.ca/event/katva-tailgate-ride/
LOCATION:KATVA Trails\, Kawartha Lakes\, Ontario
ORGANIZER;CN="KATVA":MAILTO:info@katva.ca
END:VEVENT
BEGIN:VEVENT
DTSTART;VALUE=DATE:20260808
DTEND;VALUE=DATE:20260809
DTSTAMP:20260419T230243
CREATED:20250210T145502Z
LAST-MODIFIED:20260118T135310Z
UID:13332-1786147200-1786233599@katva.ca
SUMMARY:KATVA Member Appreciation Ride\, BBQ & Potluck
DESCRIPTION:We know we have the best members! And we want to show our appreciation for you. This is a fun get together with a ride and BBQ/Potluck for our members. \nWe’ll supply the BBQ and drinks. Members bring 1 of either a side dish\, salad or dessert. \nWe’ll break off into different groups for this ride depending on your comfort level and our available volunteers. \nIf wanting to reserve a campsite\, contact Log Chateau directly at 705-887-3960. \n\n\nRide will start around 9:00am. Bring snacks for the ride.\nBBQ & Potluck will start around 2:00-3:00pm when riders return to Log Chateau.\n\n\nBring a small side dish\, salad or dessert for sharing in the potluck – enough for 4-6 people. \nKATVA will provide the BBQ and non-alcoholic drinks.\n\n\nSXS must not exceed 64 inch width. \nThis ride is for members and their guests only. \nRegistration is not yet open.
URL:https://katva.ca/event/katva-member-appreciation-ride-bbq-potluck/
LOCATION:KATVA Trails\, Kawartha Lakes\, Ontario
END:VEVENT
BEGIN:VEVENT
DTSTART;TZID=UTC:20260822T080000
DTEND;TZID=UTC:20260822T170000
DTSTAMP:20260419T230243
CREATED:20260117T211943Z
LAST-MODIFIED:20260331T231427Z
UID:14773-1787385600-1787418000@katva.ca
SUMMARY:The Amazing Scavenger Hunt
DESCRIPTION:Think you’re smarter than the average gearhead? This is a day of fun challenges you can do solo or with a group. KATVA volunteers will leave clues and puzzles on the trail leading you from spot to spot until you find us at a hidden location. \nBragging rights are on the line! \nThis is a self-guided ride. KATVA volunteers will be at the final stop until 4pm. \nThis is an intermediate ride. \nThis is NOT at race! \nSXS must not exceed 64 inch width. \nRegistration is not yet open.
URL:https://katva.ca/event/the-amazing-scavenger-hunt/
LOCATION:KATVA Trails\, Kawartha Lakes\, Ontario
ORGANIZER;CN="KATVA":MAILTO:info@katva.ca
END:VEVENT
BEGIN:VEVENT
DTSTART;VALUE=DATE:20260912
DTEND;VALUE=DATE:20260913
DTSTAMP:20260419T230243
CREATED:20250210T150050Z
LAST-MODIFIED:20260118T135126Z
UID:13335-1789171200-1789257599@katva.ca
SUMMARY:KATVA Memorial Ride
DESCRIPTION:Join us on a Memorial Ride through the trails that meant so much to our volunteers who are no longer with us. On this ride\, we pay tribute to all the KATVA volunteers lost through the years by doing something they loved so much – riding the trails and sharing the trails with others! \nBring snacks and a lunch. \nThis is an intermediate level ride. \nSXS must not exceed 64 inch width. \nRegistration in not yet open.\n 
URL:https://katva.ca/event/katva-memorial-ride-2/
LOCATION:KATVA Trails\, Kawartha Lakes\, Ontario
ORGANIZER;CN="KATVA":MAILTO:info@katva.ca
END:VEVENT
BEGIN:VEVENT
DTSTART;VALUE=DATE:20260919
DTEND;VALUE=DATE:20260920
DTSTAMP:20260419T230243
CREATED:20250210T164452Z
LAST-MODIFIED:20260118T135058Z
UID:13341-1789776000-1789862399@katva.ca
SUMMARY:KATVA Ladies Thrill and Chill Ride
DESCRIPTION:Just for the Ladies! A day on the trails while the men do the cooking!  \nJoin us for an exciting day of trail riding through the scenic trails of Kawartha Lakes. This ride will take us through a leafy canopy of dense forests\, wind along natural curves of hills and valleys\, and take in stunning views of wetland vistas. \nMidway through the ride we’ll stop along the quiet shore of the Burnt River where a couple of handsome gentlemen will serve up a delicious BBQ lunch and sweet treats just for us. \nThis ride is suitable for all ladies whether you’re a novice or expert rider. It’s a no pressure\, fun and scenic day of camaraderie and adventure. \nBring snacks for on the trails. \nThe registration fee of $50 includes lunch and a gift. \nSXS must not exceed 64 inch width. Registration closed September 14\, 2026. \nRegistration is not yet open.
URL:https://katva.ca/event/katva-ladies-thrill-and-chill-ride/
LOCATION:KATVA Trails\, Kawartha Lakes\, Ontario
ORGANIZER;CN="KATVA":MAILTO:info@katva.ca
END:VEVENT
BEGIN:VEVENT
DTSTART;TZID=UTC:20260926T180000
DTEND;TZID=UTC:20260927T020000
DTSTAMP:20260419T230243
CREATED:20250210T151007Z
LAST-MODIFIED:20260118T135018Z
UID:13338-1790445600-1790474400@katva.ca
SUMMARY:Night Howl at the Harvest Moon
DESCRIPTION:Join us on a howling after-dark expert trail adventure in the 5-Points. Who knows what we’ll encounter in the shadows under the glow of the Harvest Moon?  \n \nRiding in the dark is a whole new experience and brings an extra bit of thrill and challenge. We’ll ride through the expert trails of the 5-Points at a quick pace\, covering rock and steep inclines and declines\, sharp turns and possibly some mud or water with go-arounds. \nBring an extra layer of clothing – autumn nights get cool\, especially after the sun goes down. Bring a midnight lunch and snacks. Have a full tank of gas\, clean rad and trailside repair kit. It is expected we will return to the staging area around 2am\, but many variables can change this. \nMeet up is 6pm; ready to ride by 7pm. Location provided in confirmation email. \nNight Rides come with extra rules: \n\n\nNo beginner riders\nNo speakers with loud music – please listen to your own music within your own machine\nNo strobe lights or spotlights\n\n\nDue to past night rides\, we must stress there is a zero tolerance to drug and alcohol use\, or disrespectful\, or unsafe behaviour. We reserve the right to inspect machines before the ride leaves and may refuse participation. With that in mind\, Night Rides are a Member and Volunteer favourite ride that we hope to continue for many years to come. \nMeet up is 6pm; ready to ride by 7pm. \nThere are no size restrictions for ATVs or SXS on this ride. \nRegistration is not yet open.
URL:https://katva.ca/event/katva-aurora-borealis-autumn-night-ride-2025/
LOCATION:KATVA Trails\, Kawartha Lakes\, Ontario
ORGANIZER;CN="KATVA":MAILTO:info@katva.ca
END:VEVENT
BEGIN:VEVENT
DTSTART;VALUE=DATE:20261003
DTEND;VALUE=DATE:20261004
DTSTAMP:20260419T230243
CREATED:20250329T114124Z
LAST-MODIFIED:20260125T161330Z
UID:13405-1790985600-1791071999@katva.ca
SUMMARY:Kawartha Black Bear Run
DESCRIPTION:The Kawartha Black Bear Run returns! \nJoin KATVA & KORMA for our Kawartha Black Bear Run with Olympic medalist Elvis Stojko and after the ride meet professional figure skater and model Gladys Orozco.    \nSpend a day on the trails enjoying the beautiful pine compartments in the Somerville Forest and challenge yourself in the infamous 5-Points trail system. After the ride\, join us for a chicken or roast beef dinner at The Burnt River Community Centre. \nPre-registration is required before September 28\, 2026 for all RIDE and/or DINNER attendees. Dirt bikes\, ATVs and SXS are all welcome to attend. Unfortunately\, children under 8 cannot participate in the ride but can still be registered and join us for the dinner afterwards. \nCosts: \n\nFee yet to be determined\n\nFor the ride\, a valid trail pass is required. Permits from our Family of Clubs are accepted: HATVA\, Algonquin West\, Lake of Bays and Quad Niagara. Day passes can be purchased on-site. Dirt bike riders must be a member of the OFTR or purchase a day pass at the event. Ride check-in is at 8:00am.  \nFundraising games and activities will be available for all registrants with amazing pet items and general merchandise up for grabs. Lets have some fun and raise money for a great cause. All proceeds go to The Kibble Project to help pet rescues\, pet sanctuaries and other groups who are in need of food and supplies. \nRegistration not yet open.
URL:https://katva.ca/event/black-bear-run/
LOCATION:KATVA and KORMA Trails\, Kawartha Lakes
END:VEVENT
BEGIN:VEVENT
DTSTART;VALUE=DATE:20261010
DTEND;VALUE=DATE:20261011
DTSTAMP:20260419T230243
CREATED:20250210T164811Z
LAST-MODIFIED:20260207T013348Z
UID:13344-1791590400-1791676799@katva.ca
SUMMARY:KATVA Fall Colours Ride to Haliburton
DESCRIPTION:With luck\, the fall colours will be at their peak making this a beautiful ride. Join us as we take a run to Haliburton for lunch. We’ll stop at Ritchie Falls for some sightseeing!  \nBring snacks. Lunch will be at a restaurant in Haliburton\, at guest’s own cost. \nThis is a beginner level ride. \nSXS are not allowed on this ride. \nRegistration is not yet open.\n 
URL:https://katva.ca/event/katva-fall-colours-ride-to-haliburton/
LOCATION:KATVA Trails\, Kawartha Lakes\, Ontario
ORGANIZER;CN="KATVA":MAILTO:info@katva.ca
END:VEVENT
BEGIN:VEVENT
DTSTART;VALUE=DATE:20261128
DTEND;VALUE=DATE:20261129
DTSTAMP:20260419T230243
CREATED:20250210T165924Z
LAST-MODIFIED:20260118T134908Z
UID:13348-1795824000-1795910399@katva.ca
SUMMARY:KATVA Cold Snap
DESCRIPTION:Join us on our last ride of the season! We’ll ride the 5-Points to Picard Lake and back. There there might be a bit of snow\, ice or frost…we’ll find out! But for sure it will be cold so dress warm.   \n\n\nBring lunch\nHave enough gas\nDress warm\n\n\nThis is an intermediate level ride. \nSXS must not exceed 64″ width. \nRegistration is not yet open.
URL:https://katva.ca/event/katva-cold-snap-2/
LOCATION:KATVA Trails\, Kawartha Lakes\, Ontario
ORGANIZER;CN="KATVA":MAILTO:info@katva.ca
END:VEVENT
END:VCALENDAR