
BEGIN:VCALENDAR
VERSION:2.0
PRODID:-//Kawartha ATV Association (KATVA) - ECPv6.5.1.4//NONSGML v1.0//EN
CALSCALE:GREGORIAN
METHOD:PUBLISH
X-ORIGINAL-URL:https://katva.ca
X-WR-CALDESC:Events for Kawartha ATV Association (KATVA)
REFRESH-INTERVAL;VALUE=DURATION:PT1H
X-Robots-Tag:noindex
X-PUBLISHED-TTL:PT1H
BEGIN:VTIMEZONE
TZID:UTC
BEGIN:STANDARD
TZOFFSETFROM:+0000
TZOFFSETTO:+0000
TZNAME:UTC
DTSTART:20240101T000000
END:STANDARD
END:VTIMEZONE
BEGIN:VEVENT
DTSTART;VALUE=DATE:20240601
DTEND;VALUE=DATE:20240602
DTSTAMP:20260421T121317
CREATED:20220313T182451Z
LAST-MODIFIED:20240528T011022Z
UID:6979-1717200000-1717286399@katva.ca
SUMMARY:KATVA Annual Poker Run Fundraiser
DESCRIPTION:The KATVA Poker Run is back again for 2024! \nRide the amazing trails through the 5-Points and Somerville Forest\, enjoy a delicious hot dinner and bid on the some fabulous Silent Auction items. \nTry your luck at winning some incredible prizes. Best poker hand wins a guaranteed prize of $500 cash. Great prizes for 2nd and 3rd places\, as well as door prizes. \n$75 per person\n$25 for youth only (ages 8 to 17 years old). \nNo one under 8 years old permitted\, sorry. \nAll proceeds go to the Ross Memorial Hospital Foundation. To date\, we have raised over $50\,000! Let’s keep this growing! \nBreakfast can be purchased at Tent N Trail Eats Chip Truck at Log Chateau at registration. \nTwo ride options are available – an intermediate ride through the 5-Points and easy-intermediate ride in the Somerville Forest. \nA valid trail pass is required. Day passes can be purchased in advance or at registration on the morning of the ride. Permits from our Family of Clubs are accepted: KATVA\, HATVA\, Algonquin West\, Lake of Bays and Quad Niagara. \nIf you wish to make it a full weekend event and camp at Log Chateau\, book directly with the park at (705) 887-3960 and tell them you are with KATVA. They will try to group us all together! \nSXS must not exceed 64 inch width. \nNo Refunds for this event. \nAll participants – riders and passengers – must register separately. Registration cut-off date is May 27\, 2024. \nRegistration is closed.
URL:https://katva.ca/event/poker-run/
LOCATION:Log Chateau Family Park/Burnt River Community Centre\, 1691 Kawartha Lakes County Rd 121\, Fenelon Falls\, Ontario\, K0M 1N0\, Canada
ORGANIZER;CN="KATVA":MAILTO:info@katva.ca
END:VEVENT
END:VCALENDAR